BEGIN:VCALENDAR
VERSION:2.0
PRODID:-//217.160.0.216//NONSGML kigkonsult.se iCalcreator 2.20//
CALSCALE:GREGORIAN
METHOD:PUBLISH
X-WR-TIMEZONE:Europe/Berlin
BEGIN:VEVENT
UID:event94@Sozialatlas Neukölln
DTSTAMP:20260425T014853Z
CATEGORIES:Austellungen
DESCRIPTION:Internationale Luft-und Raumfahrtausstellung - 2026\nKategorie:
  Austellungen\nICS-Link: http://www.sozialatlas-neukoelln.de/index.php?opt
 ion=com_jem&view=event&id=94:internationale-luft-und-raumfahrtausstellung-
 2026\n
DTSTART;TZID=Europe/Berlin:20260613T100000
DTEND;TZID=Europe/Berlin:20260614T180000
SUMMARY:Internationale Luft-und Raumfahrtausstellung - 2026
URL:http://www.sozialatlas-neukoelln.de/index.php?option=com_jem&view=event
 &id=94:internationale-luft-und-raumfahrtausstellung-2026
END:VEVENT
END:VCALENDAR