BEGIN:VCALENDAR
VERSION:2.0
PRODID:-//217.160.0.216//NONSGML kigkonsult.se iCalcreator 2.20//
CALSCALE:GREGORIAN
METHOD:PUBLISH
X-WR-TIMEZONE:Europe/Berlin
BEGIN:VEVENT
UID:event30@Sozialatlas Neukölln
DTSTAMP:20260424T220713Z
CATEGORIES:Austellungen
DESCRIPTION:Architecture of Hidden Activity  - Die physische Dimension des 
 Digitalen\nKategorie: Austellungen\nICS-Link: http://www.sozialatlas-neuko
 elln.de/index.php?option=com_jem&view=event&id=30:architecture-of-hidden-a
 ctivity-die-physische-dimension-des-digitalen\n
DTSTART;TZID=Europe/Berlin:20260306T100000
DTEND;TZID=Europe/Berlin:20260617T200000
LOCATION:Körnerpark\,Schierker Str. 8\,12051 Neukölln
SUMMARY:Architecture of Hidden Activity  - Die physische Dimension des Digi
 talen
URL:http://www.sozialatlas-neukoelln.de/index.php?option=com_jem&view=event
 &id=30:architecture-of-hidden-activity-die-physische-dimension-des-digital
 en
END:VEVENT
END:VCALENDAR