BEGIN:VCALENDAR
VERSION:2.0
PRODID:-//217.160.0.216//NONSGML kigkonsult.se iCalcreator 2.20//
CALSCALE:GREGORIAN
METHOD:PUBLISH
X-WR-TIMEZONE:Europe/Berlin
BEGIN:VEVENT
UID:event112@Sozialatlas Neukölln
DTSTAMP:20260425T014606Z
CATEGORIES:Austellungen
DESCRIPTION:Klangkörper – Variationen über ein Thema der Kunst. Eine Musik-
 Intervention im Bode-Museum\nKategorie: Austellungen\nICS-Link: http://www
 .sozialatlas-neukoelln.de/index.php?option=com_jem&view=event&id=112:klang
 koerper---variationen-ueber-ein-thema-der-kunst-eine-musik-intervention-im
 -bode-museum\n
DTSTART;VALUE=DATE:20261124
DTEND;VALUE=DATE:20270308
LOCATION:Bode-Museum\,Am Kupfergraben\, Eingang über die Monbijoubrücke\,10
 178 Berlin
SUMMARY:Klangkörper – Variationen über ein Thema der Kunst. Eine Musik-Inte
 rvention im Bode-Museum
URL:http://www.sozialatlas-neukoelln.de/index.php?option=com_jem&view=event
 &id=112:klangkoerper---variationen-ueber-ein-thema-der-kunst-eine-musik-in
 tervention-im-bode-museum
END:VEVENT
END:VCALENDAR