BEGIN:VCALENDAR
VERSION:2.0
PRODID:-//217.160.0.216//NONSGML kigkonsult.se iCalcreator 2.20//
CALSCALE:GREGORIAN
METHOD:PUBLISH
X-WR-TIMEZONE:Europe/Berlin
BEGIN:VEVENT
UID:event103@Sozialatlas Neukölln
DTSTAMP:20260424T220714Z
CATEGORIES:Austellungen
DESCRIPTION:Grundstein Antike -  Berlins erstes Museum\nKategorie: Austellu
 ngen\nICS-Link: http://www.sozialatlas-neukoelln.de/index.php?option=com_j
 em&view=event&id=103:grundstein-antike-berlins-erstes-museum\n
DTSTART;VALUE=DATE:20250710
DTEND;VALUE=DATE:20260504
LOCATION:Altes Museum\,Am Lustgarten\,10178 Berlin
SUMMARY:Grundstein Antike -  Berlins erstes Museum
URL:http://www.sozialatlas-neukoelln.de/index.php?option=com_jem&view=event
 &id=103:grundstein-antike-berlins-erstes-museum
END:VEVENT
END:VCALENDAR