BEGIN:VCALENDAR
VERSION:2.0
PRODID:-//217.160.0.216//NONSGML kigkonsult.se iCalcreator 2.20//
CALSCALE:GREGORIAN
METHOD:PUBLISH
X-WR-TIMEZONE:Europe/Berlin
BEGIN:VEVENT
UID:event101@Sozialatlas Neukölln
DTSTAMP:20260425T014932Z
CATEGORIES:Austellungen
DESCRIPTION:Über Zeiten - Begegnungen des 19. Jahrhunderts mit Werken des 2
 0. und 21. Jahrhundert aus der Sammlung der Nationalgalerie\nKategorie: Au
 stellungen\nICS-Link: http://www.sozialatlas-neukoelln.de/index.php?option
 =com_jem&view=event&id=101:ueber-zeiten-begegnungen-des-19-jahrhunderts-mi
 t-werken-des-20-und-21-jahrhundert-aus-der-sammlung-der-nationalgalerie\n
DTSTART;VALUE=DATE:20261014
DTEND;VALUE=DATE:20270301
LOCATION:Alte Nationalgalerie\,Bodestraße\,10178 Berlin
SUMMARY:Über Zeiten - Begegnungen des 19. Jahrhunderts mit Werken des 20. u
 nd 21. Jahrhundert aus der Sammlung der Nationalgalerie
URL:http://www.sozialatlas-neukoelln.de/index.php?option=com_jem&view=event
 &id=101:ueber-zeiten-begegnungen-des-19-jahrhunderts-mit-werken-des-20-und
 -21-jahrhundert-aus-der-sammlung-der-nationalgalerie
END:VEVENT
END:VCALENDAR