BEGIN:VCALENDAR
VERSION:2.0
PRODID:-//217.160.0.216//NONSGML kigkonsult.se iCalcreator 2.20//
CALSCALE:GREGORIAN
METHOD:PUBLISH
X-WR-TIMEZONE:Europe/Berlin
BEGIN:VEVENT
UID:event100@Sozialatlas Neukölln
DTSTAMP:20260425T015040Z
CATEGORIES:Austellungen
DESCRIPTION:InterNationalgalerie#1 - Nationalmuseum Warschau\nKategorie: Au
 stellungen\nICS-Link: http://www.sozialatlas-neukoelln.de/index.php?option
 =com_jem&view=event&id=100:internationalgalerie-1-nationalmuseum-warschau
 \n
DTSTART;VALUE=DATE:20260619
DTEND;VALUE=DATE:20270114
LOCATION:Alte Nationalgalerie\,Bodestraße\,10178 Berlin
SUMMARY:InterNationalgalerie#1 - Nationalmuseum Warschau
URL:http://www.sozialatlas-neukoelln.de/index.php?option=com_jem&view=event
 &id=100:internationalgalerie-1-nationalmuseum-warschau
END:VEVENT
END:VCALENDAR